BEGIN:VCALENDAR
VERSION:2.0
PRODID:-//hacksw/handcal//NONSGML v1.0//EN
BEGIN:VEVENT
DTSTART:20260530T100000Z
DTEND:20260530T180000Z
LOCATION:Ecole Centrale Méditerranée - Amphi Joule \n38, Rue Frédéric Joliot Curie \n13013 MARSEILLE
ORGANIZER;CN=Valérie KENSEY - Groupe Phocéen:MAILTO:secretariat@centrale-marseille-alumni.fr
SUMMARY:SAVE THE DATE - Assemblée Générale 2026, remise des Prix des Centraliens Méditerranée de l'année et table-ronde sur l'entrepreneuriat
DESCRIPTION:Après Paris l'an dernier, retour aux sources sur le campus de Centrale Méditerranée à Marseille  pour cette année 2026 !OUVERTURE DES INSCRIPTIONS A VENIR\nC'est à côté de l'Ecole Centrale...
URL:https://www.centraliens-mediterranee.fr/fr/group/groupe-phoceen/29/calendar/save-the-date-assemblee-generale-2026-remise-des-prix-des-centraliens-mediterranee-de-l-annee-et-table-ronde-sur-l-entrepreneuriat/2026/05/30/4804
BEGIN:VALARM
TRIGGER:-P0DT1H0M0S
ACTION:DISPLAY
END:VALARM
END:VEVENT
END:VCALENDAR