BEGIN:VCALENDAR
VERSION:2.0
PRODID:-//hacksw/handcal//NONSGML v1.0//EN
BEGIN:VEVENT
DTSTART:20260525T080000Z
DTEND:20260601T160000Z
LOCATION:Village vacances LaFerme de Courcimont \nVenelle de Courcimont \n41600 NOUAN-LE-FUZELIER
ORGANIZER;CN=Valérie KENSEY - Promo EEIM 1968:MAILTO:secretariat@centrale-marseille-alumni.fr
SUMMARY:Rencontre promo EEIM 68 - Appel du solde
DESCRIPTION:Bonjours amis Pascaliennes, Pascaliens and CO,J'espère que vous allez bien, autant que faire se peut 😊.Il est temps de s'acquitter du solde de notre réservation à la Ferme de Courcimont.L'échéance est...
URL:https://www.centraliens-mediterranee.fr/fr/group/promo-eeim-1968/203/calendar/rencontre-promo-eeim-68-appel-du-solde/2026/05/25/4803
BEGIN:VALARM
TRIGGER:-P0DT1H0M0S
ACTION:DISPLAY
END:VALARM
END:VEVENT
END:VCALENDAR