BEGIN:VCALENDAR
VERSION:2.0
PRODID:-//hacksw/handcal//NONSGML v1.0//EN
BEGIN:VEVENT
DTSTART:20260603T074500Z
DTEND:20260603T150000Z
LOCATION:Ecole Centrale Méditerranée \n38 rue Joliot Curie \n13013 Marseille
ORGANIZER;CN=Valérie KENSEY - ESCM 1974, 1975 et 1976:MAILTO:secretariat@centrale-marseille-alumni.fr
SUMMARY:50e anniversaire de sortie de la promotion ESCM 1975
DESCRIPTION:Salut les amis,Hé oui, cela fait déjà 50 ans que nous nous somme quittés un beau jour de juin à la sortie de l’école et que, pour certains, nous ne nous sommes pas revus depuis.Beaucoup de choses ont ...
URL:https://www.centraliens-mediterranee.fr/fr/group/escm-1974-1975-et-1976/229/calendar/50e-anniversaire-de-sortie-de-la-promotion-escm-1975/2026/06/03/4800
BEGIN:VALARM
TRIGGER:-P0DT1H0M0S
ACTION:DISPLAY
END:VALARM
END:VEVENT
END:VCALENDAR