BEGIN:VCALENDAR
VERSION:2.0
PRODID:-//hacksw/handcal//NONSGML v1.0//EN
BEGIN:VEVENT
DTSTART:20260424T100000Z
DTEND:20260424T120000Z
LOCATION:Restaurant En Voûte et Moi \n5, Rue Denuzière \n69002 LYON
ORGANIZER;CN=Valérie KENSEY - Groupe Rhône Alpes:MAILTO:secretariat@centrale-marseille-alumni.fr
SUMMARY:Déjeuner malin Intercentrale
DESCRIPTION:J’ai le plaisir de vous annoncer notre prochain déjeuner malin du vendredi 24 avril 2026 à midi. Je serais heureux de vous retrouver nombreux pour ce déjeuner !Ces repas sont toujours des moments...
URL:https://www.centraliens-mediterranee.fr/fr/group/groupe-rhone-alpes/89/calendar/dejeuner-malin-intercentrale/2026/04/24/4795
BEGIN:VALARM
TRIGGER:-P0DT1H0M0S
ACTION:DISPLAY
END:VALARM
END:VEVENT
END:VCALENDAR