BEGIN:VCALENDAR
VERSION:2.0
PRODID:-//hacksw/handcal//NONSGML v1.0//EN
BEGIN:VEVENT
DTSTART:20260425T094500Z
DTEND:20260425T110000Z
LOCATION:Le Bistrot Téatro \n577, Avenue Jules Grec \n06600 ANTIBES
ORGANIZER;CN=Mathilde ROSE:MAILTO:service.emploi@centraliens-med.fr
SUMMARY:Repas avant la conférence sur la prise de décision et les jeux Loup Garou
DESCRIPTION:Cher camarade,\navant la conférence sur la prise de décision et les jeux de loup Garou, je te propose de nous retrouver au restaurant\nle Bistrot Téatro,\n577, Avenue Jules Grec, 06600 Antibes\nle...
URL:https://www.centraliens-mediterranee.fr/fr/event/repas-avant-la-conference-sur-la-prise-de-decision-et-les-jeux-loup-garou/2026/04/25/4776
BEGIN:VALARM
TRIGGER:-P0DT1H0M0S
ACTION:DISPLAY
END:VALARM
END:VEVENT
END:VCALENDAR