BEGIN:VCALENDAR
VERSION:2.0
PRODID:-//hacksw/handcal//NONSGML v1.0//EN
BEGIN:VEVENT
DTSTART:20260421T063000Z
DTEND:20260421T150000Z
LOCATION:CEA Cadarache \nRoute de Vinon sur Verdon - Nouveau Parking à droite de l’entrée du CEA Cadarache \n13067 Saint Paul lez Durance
ORGANIZER;CN=Valérie KENSEY - Groupe Phocéen:MAILTO:secretariat@centrale-marseille-alumni.fr
SUMMARY:Conférences avec visites des Tokamaks ITER et WEST (IRFM CEA) ainsi que les labos associés
DESCRIPTION:\nL’intergroupe des Centraliens et CentraliensSupélec en Provence associé aux IESF Provence, Rhône Alpes et Côte d’Azur proposent Conférences avec visites des Tokamaks ITER et WEST (IRFM CEA) ainsi...
URL:https://www.centraliens-mediterranee.fr/fr/group/groupe-phoceen/29/calendar/conferences-avec-visites-des-tokamaks-iter-et-west-irfm-cea-ainsi-que-les-labos-associes/2026/04/21/4735
BEGIN:VALARM
TRIGGER:-P0DT1H0M0S
ACTION:DISPLAY
END:VALARM
END:VEVENT
END:VCALENDAR