BEGIN:VCALENDAR
VERSION:2.0
PRODID:-//hacksw/handcal//NONSGML v1.0//EN
BEGIN:VEVENT
DTSTART:20260326T173000Z
DTEND:20260326T183000Z
LOCATION:INSA Lyon - Amphithéâtre du Département de Génie Électrique \n8, Rue de la Physique \n69100 VILLEURBANNE
ORGANIZER;CN=Valérie KENSEY - Groupe Rhône Alpes:MAILTO:secretariat@centrale-marseille-alumni.fr
SUMMARY:Décarboner le ferroviaire, enjeux et initiatives
DESCRIPTION:    Ingénieurs et Scientifiques de France Lyon-RA et la SEE Groupe Régional Auvergne Rhône-Alpes ont le plaisir de vous inviter à la conférence : Décarboner le ferroviaire, enjeux et initiativesJeudi ...
URL:https://www.centraliens-mediterranee.fr/fr/group/groupe-rhone-alpes/89/calendar/decarboner-le-ferroviaire-enjeux-et-initiatives/2026/03/26/4734
BEGIN:VALARM
TRIGGER:-P0DT1H0M0S
ACTION:DISPLAY
END:VALARM
END:VEVENT
END:VCALENDAR