BEGIN:VCALENDAR
VERSION:2.0
PRODID:-//hacksw/handcal//NONSGML v1.0//EN
BEGIN:VEVENT
DTSTART:20260311T173000Z
DTEND:20260311T190000Z
LOCATION:
ORGANIZER;CN=Mathilde ROSE:MAILTO:service.emploi@centraliens-med.fr
SUMMARY:Les Rendez-vous Whats4u : La gouvernance des entreprises à impact
DESCRIPTION:Rendez-Vous Whats4u : table ronde + networkingLes Rendez-Vous Whats4u conjuguent table ronde thématique et networking tous secteurs, pour un moment enrichissant et convivial inter associations sur...
URL:https://www.centraliens-mediterranee.fr/fr/event/les-rendez-vous-whats4u-la-gouvernance-des-entreprises-a-impact/2026/03/11/4722
BEGIN:VALARM
TRIGGER:-P0DT1H0M0S
ACTION:DISPLAY
END:VALARM
END:VEVENT
END:VCALENDAR