BEGIN:VCALENDAR
VERSION:2.0
PRODID:-//hacksw/handcal//NONSGML v1.0//EN
BEGIN:VEVENT
DTSTART:20260501T100000Z
DTEND:20260503T140000Z
LOCATION:MFR de Puyloubier \n213 avenue Henri Froidfond \n13114 Puyloubier
ORGANIZER;CN=David BOURGEOIS:MAILTO:dawidbourgeois@gmail.com
SUMMARY:SPI Chimie, 30 ans après
DESCRIPTION:1996, c'était hier. Ou presque.Nous fêterons le WE du 1er mai 2026 les 30 ans de notre  promotion SPI Chimie / ENSSPICAM légendaire !Pour célébrer dignement cet anniversaire et raviver nos souvenirs...
URL:https://www.centraliens-mediterranee.fr/fr/event/spi-chimie-30-ans-apres/2026/05/01/4718
BEGIN:VALARM
TRIGGER:-P0DT1H0M0S
ACTION:DISPLAY
END:VALARM
END:VEVENT
END:VCALENDAR