BEGIN:VCALENDAR
VERSION:2.0
PRODID:-//hacksw/handcal//NONSGML v1.0//EN
BEGIN:VEVENT
DTSTART:20260205T180000Z
DTEND:20260205T190000Z
LOCATION:Le Trinque Fougasse O'Sud \n148, Rue de Galata \n34000 MONTPELLIER
ORGANIZER;CN=Valérie KENSEY - Groupe Languedoc Roussillon:MAILTO:secretariat@centrale-marseille-alumni.fr
SUMMARY:Afterwork Intercentrale
DESCRIPTION:Cher (chère) camarade, Je te propose de nous retrouver lors de notre prochain AFTERWORK qui aura lieu jeudi 5 février à partir de 19h00.Le lieu choisi pour ce rendez-vous est "Le Trinque Fougasse...
URL:https://www.centraliens-mediterranee.fr/fr/group/groupe-languedoc-roussillon/77/calendar/afterwork-intercentrale/2026/02/05/4667
BEGIN:VALARM
TRIGGER:-P0DT1H0M0S
ACTION:DISPLAY
END:VALARM
END:VEVENT
END:VCALENDAR