BEGIN:VCALENDAR
VERSION:2.0
PRODID:-//hacksw/handcal//NONSGML v1.0//EN
BEGIN:VEVENT
DTSTART:20250403T190000
DTEND:20250403T213000
LOCATION:Le Trinque Fougasse O'Sud \n148, Rue de Galata \n34000 MONTPELLIER
ORGANIZER;CN=Valérie KENSEY - Groupe Languedoc Roussillon:MAILTO:secretariat@centrale-marseille-alumni.fr
SUMMARY:Afterwork Intercentrale
DESCRIPTION:Cher (chère) camarade,\nJe te propose de nous retrouver lors de notre prochain AFTERWORK qui aura lieu jeudi 3 avril à partir de 19h00. Le lieu choisi pour ce rendez-vous est "Le Trinque Fougasse...
URL:https://www.centraliens-mediterranee.fr/fr/group/groupe-languedoc-roussillon/77/calendar/afterwork-intercentrale/2025/04/03/4256
BEGIN:VALARM
TRIGGER:-P0DT1H0M0S
ACTION:DISPLAY
END:VALARM
END:VEVENT
END:VCALENDAR