BEGIN:VCALENDAR
VERSION:2.0
PRODID:-//hacksw/handcal//NONSGML v1.0//EN
BEGIN:VEVENT
DTSTART:20250425T120000
DTEND:20250425T170000
LOCATION:Maison de l'Eau et des Energies \n2100, Route du barrage \n05190 ROUSSET-SERRE-PONCON
ORGANIZER;CN=Valérie KENSEY - Groupe Phocéen:MAILTO:secretariat@centrale-marseille-alumni.fr
SUMMARY:Visite du barrage et de la centrale hydroélectrique de Serre-Ponçon
DESCRIPTION:\nL'Intergroupe des Centraliens et Supélec en Provence vous invite à la visite du\nbarrage et de la centrale hydroélectrique EDF de Serre-Ponçon : un patrimoine industriel exceptionnel !C'est l’un des...
URL:https://www.centraliens-mediterranee.fr/fr/group/groupe-phoceen/29/calendar/visite-du-barrage-et-de-la-centrale-hydroelectrique-de-serre-poncon/2025/04/25/4230
BEGIN:VALARM
TRIGGER:-P0DT1H0M0S
ACTION:DISPLAY
END:VALARM
END:VEVENT
END:VCALENDAR