BEGIN:VCALENDAR
VERSION:2.0
PRODID:-//hacksw/handcal//NONSGML v1.0//EN
BEGIN:VEVENT
DTSTART:20240125T193000
DTEND:20240125T220000
LOCATION:IESF \n7, Rue Lamennais \n75008 PARIS
ORGANIZER;CN=Valérie KENSEY - Groupe Paris Ile-de-France:MAILTO:secretariat@centrale-marseille-alumni.fr
SUMMARY:Galette des Rois de l'Intergroupe Centraliens et Supélec en Ile-de-France
DESCRIPTION:\nLes groupes IDF des associations centraliennes et Supélec de Lille, Lyon, Méditerranée, Nantes et Paris ont le plaisir de t'inviter à leur soirée Vœux 2024 afin de célébrer ensemble la nouvelle...
URL:https://www.centraliens-mediterranee.fr/fr/group/groupe-paris-ile-de-france/33/calendar/galette-des-rois-de-l-intergroupe-centraliens-et-supelec-en-ile-de-france/2024/01/25/3448
BEGIN:VALARM
TRIGGER:-P0DT1H0M0S
ACTION:DISPLAY
END:VALARM
END:VEVENT
END:VCALENDAR