BEGIN:VCALENDAR
VERSION:2.0
PRODID:-//hacksw/handcal//NONSGML v1.0//EN
BEGIN:VEVENT
DTSTART:20220530T190000
DTEND:20220603T180000
LOCATION:L'Oise et ses trésors
ORGANIZER;CN=Valérie KENSEY - Promo EEIM 1968:MAILTO:secretariat@centrale-marseille-alumni.fr
SUMMARY:54ème anniversaire de la promo EEIM 68 - Appel du solde
DESCRIPTION:Bonjour à tous, Les jours passent et nous approchons doucement mais sûrement vers le 30 mai et nos retrouvailles.Après un premier acompte demandé en octobre 2021, notre agence de voyage nous demande...
URL:https://www.centraliens-mediterranee.fr/fr/group/promo-eeim-1968/203/calendar/54eme-anniversaire-de-la-promo-eeim-68-appel-du-solde/2022/05/30/2422
BEGIN:VALARM
TRIGGER:-P0DT1H0M0S
ACTION:DISPLAY
END:VALARM
END:VEVENT
END:VCALENDAR